BEGIN:VCALENDAR
VERSION:2.0
PRODID:-//ChamberMaster//Event Calendar 2.0//EN
METHOD:PUBLISH
X-PUBLISHED-TTL:P3D
REFRESH-INTERVAL:P3D
CALSCALE:GREGORIAN
BEGIN:VEVENT
DTSTART:20170408T160000Z
DTEND:20170408T230000Z
X-MICROSOFT-CDO-ALLDAYEVENT:FALSE
SUMMARY:Charity Poker Tournament
DESCRIPTION:Charity Poker Tournament to support Franklin Community Center Food. Info: Game: Texas Hold 'Em\, Single Elimin Tourney Limit: No-Limit / All-In Skill Levels: All\; Beginners to Expert Eligibility: Open to the Public\, All are Welcome Blinds Schedule: Announced at Game Chip Stacks: 5\,000
X-ALT-DESC;FMTTYPE=text/html:Charity Poker Tournament to support Franklin Community Center Food. Info: Game: Texas Hold &lsquo\;Em\, Single Elimin Tourney Limit: No-Limit / All-In Skill Levels: All\; Beginners to Expert Eligibility: Open to the Public\, All are Welcome Blinds Schedule: Announced at Game Chip Stacks: 5\,000
LOCATION:The Parting Glass\, Saratoga Springs
UID:e.2254.22822
SEQUENCE:3
DTSTAMP:20260420T035235Z
URL:http://saratogatourism-gzcms.preview.gochambermaster.com/events/details/charity-poker-tournament-22822
END:VEVENT

END:VCALENDAR
