BEGIN:VCALENDAR
VERSION:2.0
PRODID:-//ChamberMaster//Event Calendar 2.0//EN
METHOD:PUBLISH
X-PUBLISHED-TTL:P3D
REFRESH-INTERVAL:P3D
CALSCALE:GREGORIAN
BEGIN:VEVENT
DTSTART:20150207T180000Z
DTEND:20150207T190000Z
X-MICROSOFT-CDO-ALLDAYEVENT:FALSE
SUMMARY:Centennial Trees 2015
DESCRIPTION:Centennial Trees Saratoga 2015 \n\nHow we can \n\nleave \n\na towering legacy \n\nfor our \n\nkids and grandkids \n\nJoin the conversation about planting large trees in high impact locations. \n\nBring your ideas. Help mold the grand tree vision that will shape how future generations experience Saratoga Springs. \n\nJoin Sustainable Saratoga at this hands-on \n\nplanning session to get the conversation started. \n\nSaturday\, \n\nFebruary 7 \n\nat 1 PM \n\nSaratoga Springs Public Library \n\nTOM DENNY will make a short presentation & facilitate the planning workshop. \n\nIf you have a laptop or other device\, \n\nplease bring it. \n\nMore information at www.sustainablesaratoga.org/Centennialtrees \n\nEmail ideas and questions to trees@sustainablesaratoga.org
X-ALT-DESC;FMTTYPE=text/html:<p align="LEFT">&nbsp\;</p>\n\n<p><b><font size="7">Centennial Trees Saratoga 2015 </font></b></p>\n\n<p><b><font face="Arial\,Arial Black" size="5"><font face="Arial\,Arial Black" size="5">How we can </font></font></b></p>\n\n<p><b><font face="Arial\,Arial Black" size="5"><font face="Arial\,Arial Black" size="5">leave </font></font></b></p>\n\n<p><b><font face="Arial\,Arial Black" size="5"><font face="Arial\,Arial Black" size="5">a towering legacy </font></font></b></p>\n\n<p><b><font face="Arial\,Arial Black" size="5"><font face="Arial\,Arial Black" size="5">for our </font></font></b></p>\n\n<p><b><font face="Arial\,Arial Black" size="5"><font face="Arial\,Arial Black" size="5">kids and grandkids </font></font></b></p>\n\n<p><b><font size="4">Join the conversation about planting large trees in high impact locations. </font></b></p>\n\n<p><b><font size="4">Bring your ideas. Help mold the grand tree vision that will shape how future generations experience Saratoga Springs. </font></b></p>\n\n<p><b><font size="4">Join Sustainable Saratoga at this hands-on </font></b></p>\n\n<p><b><font size="4">planning session to get the conversation started. </font></b></p>\n\n<p><b><font size="6">Saturday\, </font></b></p>\n\n<p><font size="6">February 7 </font></p>\n\n<p><font size="6"><b>at 1 PM </b></font></p>\n\n<p><font size="4"><strong>Saratoga Springs Public Library&nbsp\;</strong></font></p>\n\n<p><b><font size="4">TOM DENNY will make a short presentation &amp\; facilitate the planning workshop. </font></b></p>\n\n<p><b><font size="4">If you have a laptop or other device\, </font></b></p>\n\n<p><b><font size="4">please bring it. </font></b></p>\n\n<p><b><font size="4">More information at www.sustainablesaratoga.org/Centennialtrees </font></b></p>\n\n<p><b><font size="4">Email ideas and questions to trees@sustainablesaratoga.org </font></b></p>\n
LOCATION:Saratoga Springs Public Library Saratoga Springs
UID:e.2254.4969
SEQUENCE:3
DTSTAMP:20260424T014803Z
URL:http://saratogatourism-gzcms.preview.gochambermaster.com/events/details/centennial-trees-2015-02-07-2015-4969
END:VEVENT

END:VCALENDAR
