BEGIN:VCALENDAR
VERSION:2.0
PRODID:-//ChamberMaster//Event Calendar 2.0//EN
METHOD:PUBLISH
X-PUBLISHED-TTL:P3D
REFRESH-INTERVAL:P3D
CALSCALE:GREGORIAN
BEGIN:VEVENT
DTSTART:20160910T130000Z
DTEND:20160910T220000Z
X-MICROSOFT-CDO-ALLDAYEVENT:FALSE
SUMMARY:CapRegion Pet Ex
DESCRIPTION:The Cap Region Pet Ex is an exciting\, first of its kind event in the Capital District that is dedicated to everything for your pet. Our vendors will be showcasing everything from pet food and accessories to grooming and training. Come out and find your new best friend at our adoption clinic featuring many area shelters and rescues. We will be featuring seminars and demonstrations throughout the day on topics important and entertaining for you and your pet. Admission is free\, but please feel free to bring canned or bagged pet food to support our local animal shelters. Leashed pets will be welcome at the show so please bring your furry friends to enjoy the day with you
X-ALT-DESC;FMTTYPE=text/html:The Cap Region Pet Ex is an exciting\, first of its kind event in the Capital District that is dedicated to everything for your pet. Our vendors will be showcasing everything from pet food and accessories to grooming and training. Come out and find your new best friend at our adoption clinic featuring many area shelters and rescues. We will be featuring seminars and demonstrations throughout the day on topics important and entertaining for you and your pet. Admission is free\, but please feel free to bring canned or bagged pet food to support our local animal shelters. Leashed pets will be welcome at the show so please bring your furry friends to enjoy the day with you
LOCATION:Saratoga Springs City Center 522 Broadway Saratoga Springs\, NY 12866
UID:e.2254.17380
SEQUENCE:3
DTSTAMP:20260420T230519Z
URL:http://saratogatourism-gzcms.preview.gochambermaster.com/events/details/capregion-pet-ex-09-10-2016-17380
END:VEVENT

END:VCALENDAR
