BEGIN:VCALENDAR
VERSION:2.0
PRODID:-//ChamberMaster//Event Calendar 2.0//EN
METHOD:PUBLISH
X-PUBLISHED-TTL:P3D
REFRESH-INTERVAL:P3D
CALSCALE:GREGORIAN
BEGIN:VEVENT
DTSTART:20160427T223000Z
DTEND:20160428T000000Z
X-MICROSOFT-CDO-ALLDAYEVENT:FALSE
SUMMARY:Campfire Songs and Stories
DESCRIPTION:Join us for an evening of campfire songs and stories. More details to come! Pre-registration is required by April 26th.
X-ALT-DESC;FMTTYPE=text/html:Join us for an evening of campfire songs and stories. More details to come! Pre-registration is required by April 26th.
LOCATION:Scout Road Gansevoort\, NY
UID:e.2254.15609
SEQUENCE:3
DTSTAMP:20260421T190537Z
URL:http://saratogatourism-gzcms.preview.gochambermaster.com/events/details/campfire-songs-and-stories-04-27-2016-15609
END:VEVENT

END:VCALENDAR
