BEGIN:VCALENDAR
VERSION:2.0
PRODID:-//ChamberMaster//Event Calendar 2.0//EN
METHOD:PUBLISH
X-PUBLISHED-TTL:P3D
REFRESH-INTERVAL:P3D
CALSCALE:GREGORIAN
BEGIN:VEVENT
DTSTART:20150805T233000Z
DTEND:20150806T013000Z
X-MICROSOFT-CDO-ALLDAYEVENT:FALSE
SUMMARY:Caffe Lena Poetry Open Mic Featuring Jackie Craven & Lori Desrosiers
DESCRIPTION:This monthly event\, hosted by Carol Graser\, takes place on the first Wednesday of every month. Sign up starts at 7 and readings start at 7:30. Each open mic poet reads two short poems (less than one page) or one longer poem. All styles of poetry are welcome. August features are Lori Desrosiers & Jackie Craven. Lori Desrosiers' debut full-length book of poems\, The Philosopher's Daughter\, was published by Salmon Poetry in 2013. A chapbook\, Inner Sky\, is from Glass Lyre Press. Sometimes I Hear the Clock Speak will be out from Salmon in 2016. She edits Naugatuck River Review\, a journal of narrative poetry. She teaches Literature and Composition at Westfield State University and Holyoke Community College\, and Poetry in the Interdisciplinary Studies program for the Lesley University M.F.A. graduate program. Jackie Craven writes poetry and fiction for literary journals\, and covers architecture and travel topics for various publications. She also fixes up old houses and rents apartments to interesting people who feed her muse. She has work published or forthcoming in The Asheville Poetry Review\, Chautauqua\, The Fourth River\, New Ohio Review\, Nimrod International Journal\, Pembroke Magazine\, Quiddity\, Salamander\, Stone Canoe Journal\, Water~Stone Review\, and other journals.
X-ALT-DESC;FMTTYPE=text/html:This monthly event\, hosted by Carol Graser\, takes place on the first Wednesday of every month. Sign up starts at 7 and readings start at 7:30. Each open mic poet reads two short poems (less than one page) or one longer poem. All styles of poetry are welcome. August features are Lori Desrosiers &amp\; Jackie Craven. Lori Desrosiers&#39\; debut full-length book of poems\, The Philosopher&#39\;s Daughter\, was published by Salmon Poetry in 2013. A chapbook\, Inner Sky\, is from Glass Lyre Press. Sometimes I Hear the Clock Speak will be out from Salmon in 2016. She edits Naugatuck River Review\, a journal of narrative poetry. She teaches Literature and Composition at Westfield State University and Holyoke Community College\, and Poetry in the Interdisciplinary Studies program for the Lesley University M.F.A. graduate program. Jackie Craven writes poetry and fiction for literary journals\, and covers architecture and travel topics for various publications. She also fixes up old houses and rents apartments to interesting people who feed her muse. She has work published or forthcoming in The Asheville Poetry Review\, Chautauqua\, The Fourth River\, New Ohio Review\, Nimrod International Journal\, Pembroke Magazine\, Quiddity\, Salamander\, Stone Canoe Journal\, Water~Stone Review\, and other journals.
LOCATION:Caffe Lena 47 Phila St. Saratoga Springs\, NY 12866
UID:e.2254.10094
SEQUENCE:3
DTSTAMP:20260423T014655Z
URL:http://saratogatourism-gzcms.preview.gochambermaster.com/events/details/caffe-lena-poetry-open-mic-featuring-jackie-craven-lori-desrosiers-08-05-2015-10094
END:VEVENT

END:VCALENDAR
