BEGIN:VCALENDAR
VERSION:2.0
PRODID:-//ChamberMaster//Event Calendar 2.0//EN
METHOD:PUBLISH
X-PUBLISHED-TTL:P3D
REFRESH-INTERVAL:P3D
CALSCALE:GREGORIAN
BEGIN:VEVENT
DTSTART:20160803T223000Z
DTEND:20160804T010000Z
X-MICROSOFT-CDO-ALLDAYEVENT:FALSE
SUMMARY:Caffe Lena Poetry Open Mic At Northshire Bookstore
DESCRIPTION:This monthly event\, hosted by Carol Graser\, takes place on the first Wednesday of every month and includes an open mic reading as well as featured poets. Sign up for the open mic starts at 6:30 and readings start at 7:00. August featured poet: Ken Hada Ken Hada is a poet and professor at East Central University where he directs the annual Scissortail Creative Writing Festival. Raised in the rural Ozarks\, with close ties to his Hungarian ancestors in the gypsum hills of northwest Oklahoma\, he finds the natural order a powerful presence for writing. His six published books include Persimmon Sunday\, Spare Parts\, Margaritas & Redfish\, The Way of the Wind and The River White: A Confluence of Brush & Quill. A popular reader of his work at venues around the country\, Ken also helps to edit the journals Cybersoleiljournal.com and All Roads Will Lead You Home.
X-ALT-DESC;FMTTYPE=text/html:This monthly event\, hosted by Carol Graser\, takes place on the first Wednesday of every month and includes an open mic reading as well as featured poets. Sign up for the open mic starts at 6:30 and readings start at 7:00. August featured poet: Ken Hada Ken Hada is a poet and professor at East Central University where he directs the annual Scissortail Creative Writing Festival. Raised in the rural Ozarks\, with close ties to his Hungarian ancestors in the gypsum hills of northwest Oklahoma\, he finds the natural order a powerful presence for writing. His six published books include Persimmon Sunday\, Spare Parts\, Margaritas &amp\; Redfish\, The Way of the Wind and The River White: A Confluence of Brush &amp\; Quill. A popular reader of his work at venues around the country\, Ken also helps to edit the journals Cybersoleiljournal.com and All Roads Will Lead You Home.
LOCATION:Northshire Bookstore 424 Broadway Saratoga Springs\, NY
UID:e.2254.17301
SEQUENCE:3
DTSTAMP:20260421T014827Z
URL:http://saratogatourism-gzcms.preview.gochambermaster.com/events/details/caffe-lena-poetry-open-mic-at-northshire-bookstore-08-03-2016-17301
END:VEVENT

END:VCALENDAR
