BEGIN:VCALENDAR
VERSION:2.0
PRODID:-//ChamberMaster//Event Calendar 2.0//EN
METHOD:PUBLISH
X-PUBLISHED-TTL:P3D
REFRESH-INTERVAL:P3D
CALSCALE:GREGORIAN
BEGIN:VEVENT
DTSTART:20170510T130000Z
DTEND:20170520T200000Z
X-MICROSOFT-CDO-ALLDAYEVENT:FALSE
SUMMARY:Build a Wee Lassie Canoe with Larry Benjamin. #1058-0510. 10 days. May 10-13 and May 15-20
DESCRIPTION:The original "Wee Lassie" was a lapstrake-built open cedar canoe made in 1863 by J. Henry Rushton\, of Canton\, NY. Rushton was one of the most famous canoe builders of his era. George Washington Sears\, who wrote of his adventures under his pen name of "Nessmuk" as he recorded his paddling adventures throughout the Adirondacks\, popularized these small\, finely crafted canoes. Come spend 10 wonderful days at AFS building your own Wee Lassie. You will be guided through every step of the building process. Leave with a beautiful\, lightweight canoe that handles well in the water. Open to all level of student.\n\n\nNOTE:  This class will be taking place at The Shirt Factory\, located at 71 Lawrence Street in Glens Falls\, NY. See the website for more info or call 518-696-2400.
X-ALT-DESC;FMTTYPE=text/html:<pre>\n<span style="font-size: 12pt\;"><span style="font-family: arial\,sans-serif\;"><span style="color: black\;">The original &ldquo\;Wee Lassie&rdquo\; was a lapstrake-built open cedar canoe made in 1863 by J. Henry Rushton\, of Canton\, NY.&nbsp\;Rushton was one of the most famous canoe builders of his era.&nbsp\;George Washington Sears\, who wrote of his adventures under his pen name of &ldquo\;Nessmuk&rdquo\; as he recorded his paddling adventures throughout the Adirondacks\, popularized these small\, finely crafted canoes. Come spend 10 wonderful days at AFS building your own Wee Lassie. You will be guided through every step of the building process. Leave with a beautiful\, lightweight canoe that handles well in the water. Open to all level of student.</span></span></span></pre>\n\n<pre>\n<strong><span style="font-size: 12pt\;"><span style="font-family: arial\,sans-serif\;"><span style="color: black\;">NOTE:&nbsp\; This class will be taking place at The Shirt Factory\, located at 71 Lawrence Street in Glens Falls\, NY. See the website for more info or call 518-696-2400.</span></span></span></strong></pre>\n\n<pre>\n&nbsp\;</pre>\n
LOCATION:The Shirt Factory 71 Lawrence Street Glens Falls\, NY. See the website for more info or call 518-696-2400.
UID:e.2254.23059
SEQUENCE:3
DTSTAMP:20260419T225418Z
URL:http://saratogatourism-gzcms.preview.gochambermaster.com/events/details/build-a-wee-lassie-canoe-with-larry-benjamin-1058-0510-10-days-may-10-13-and-may-15-20-23059
END:VEVENT

END:VCALENDAR
