BEGIN:VCALENDAR
VERSION:2.0
PRODID:-//ChamberMaster//Event Calendar 2.0//EN
METHOD:PUBLISH
X-PUBLISHED-TTL:P3D
REFRESH-INTERVAL:P3D
CALSCALE:GREGORIAN
BEGIN:VEVENT
DTSTART:20150607T140000Z
DTEND:20150607T160000Z
X-MICROSOFT-CDO-ALLDAYEVENT:FALSE
SUMMARY:Brunch for Farmland Protection in Saratoga County
DESCRIPTION:Join Saratoga PLAN for brunch at Buckley Farm to benefit the conservation of working farmland in Saratoga County. Brunch will feature products from area farms followed by a tour of Buckley Farm and a talk from Richard Ball\, Commissioner of NYS Department of Agriculture & Markets.
X-ALT-DESC;FMTTYPE=text/html:Join Saratoga PLAN for brunch at Buckley Farm to benefit the conservation of working farmland in Saratoga County. Brunch will feature products from area farms followed by a tour of Buckley Farm and a talk from Richard Ball\, Commissioner of NYS Department of Agriculture &amp\; Markets.
LOCATION:Wm. H. Buckley Farm 946 Route 50\, Ballston Lake
UID:e.2254.8358
SEQUENCE:3
DTSTAMP:20260423T070627Z
URL:http://saratogatourism-gzcms.preview.gochambermaster.com/events/details/brunch-for-farmland-protection-in-saratoga-county-06-07-2015-8358
END:VEVENT

END:VCALENDAR
