BEGIN:VCALENDAR
VERSION:2.0
PRODID:-//ChamberMaster//Event Calendar 2.0//EN
METHOD:PUBLISH
X-PUBLISHED-TTL:P3D
REFRESH-INTERVAL:P3D
CALSCALE:GREGORIAN
BEGIN:VEVENT
DTSTART:20160120T223000Z
DTEND:20160120T233000Z
X-MICROSOFT-CDO-ALLDAYEVENT:FALSE
SUMMARY:Breast and Body Contouring Seminar
DESCRIPTION:Join our Breast and Body Specialist\,\n\nDr. Alain Polynice\, board certified plastic surgeon\n\non January 20th at 5:30 pm. \n\n \n\nLearn from a Specialist who focuses only on Breast and Body Surgery all of the new techniques offered including Vectra 3D Imaging\, where you can see your results before having a procedure.\n\n\nTopics being discussed:\n\n\n	Breast Augmentation\n	Breast Lift\n	Breast Reduction\n	Tummy Tuck\n	Liposuction\n\n\nRSVP: (518)786-7000 or info@williamsfacialsurgery.com
X-ALT-DESC;FMTTYPE=text/html:<h2 style="text-align: center\; font-style: italic\;"><span style="color: rgb(238\, 130\, 238)\;"><strong>Join our Breast and Body Specialist\,<br />\nDr. Alain Polynice\, board certified plastic surgeon</strong></span></h2>\n\n<h1 style="text-align: center\; font-style: italic\;"><span style="color: rgb(238\, 130\, 238)\;"><em><strong>on January 20th at 5:30 pm. </strong></em></span></h1>\n\n<h2 style="font-style: italic\;">&nbsp\;</h2>\n\n<h2 style="text-align: center\; font-style: italic\;"><span style="color: rgb(238\, 130\, 238)\;">Learn from a Specialist who focuses only on Breast and Body Surgery all of the new techniques offered including Vectra 3D Imaging\, where you can see your results before having a procedure.</span></h2>\n<br />\n<span style="color: rgb(238\, 130\, 238)\;"><strong>Topics being discussed:</strong></span>\n\n<ul>\n	<li><span style="font-family: tahoma\;"><span style="color: rgb(238\, 130\, 238)\;">Breast Augmentation</span></span></li>\n	<li><span style="font-family: tahoma\;"><span style="color: rgb(238\, 130\, 238)\;">Breast Lift</span></span></li>\n	<li><span style="font-family: tahoma\;"><span style="color: rgb(238\, 130\, 238)\;">Breast Reduction</span></span></li>\n	<li><span style="font-family: tahoma\;"><span style="color: rgb(238\, 130\, 238)\;">Tummy Tuck</span></span></li>\n	<li><span style="font-family: tahoma\;"><span style="color: rgb(238\, 130\, 238)\;">Liposuction</span></span></li>\n</ul>\n\n<h2 style="font-style: italic\;"><span style="color: rgb(238\, 130\, 238)\;"><span style="font-family: verdana\;">RSVP: (518)786-7000 or info@williamsfacialsurgery.com</span></span></h2>\n
LOCATION:1072 Troy Schenectady Rd. Latham NY 12110
UID:e.2254.13328
SEQUENCE:3
DTSTAMP:20260422T054002Z
URL:http://saratogatourism-gzcms.preview.gochambermaster.com/events/details/breast-and-body-contouring-seminar-01-20-2016-13328
END:VEVENT

END:VCALENDAR
