BEGIN:VCALENDAR
VERSION:2.0
PRODID:-//ChamberMaster//Event Calendar 2.0//EN
METHOD:PUBLISH
X-PUBLISHED-TTL:P3D
REFRESH-INTERVAL:P3D
CALSCALE:GREGORIAN
BEGIN:VEVENT
DTSTART:20160730T130000Z
DTEND:20160803T200000Z
X-MICROSOFT-CDO-ALLDAYEVENT:FALSE
SUMMARY:Blacksmithing: Woodworking and Timber Framing Tools with Gerald Boggs. #972-0730. 5 days. July 30 ? August 3
DESCRIPTION:Students will start with forging a pair of log dogs\, a framing chisel and a slick. Depending upon skill level\, each student will also be able to forge an adze and an axe. This course is geared toward the student with some forging and forge welding skills\, but we can accommodate any skill level.\n\n\nNOTE:  Hard shoes and long pants are required for student's safety.
X-ALT-DESC;FMTTYPE=text/html:<pre>\n<span style="font-size:12pt"><span style="font-family:arial\,sans-serif"><span style="color:black">Students will start with forging a pair of log dogs\, a framing chisel and a slick. Depending upon skill level\, each student will also be able to forge an adze and an axe. This course is geared toward the student with some forging and forge welding skills\, but we can accommodate any skill level</span></span></span><span style="font-family:arial\,sans-serif"><span style="font-size:small">.</span></span></pre>\n\n<pre>\n<strong><span style="font-size:12pt"><span style="font-family:arial\,sans-serif"><span style="color:black">NOTE:&nbsp\; Hard shoes and long pants are required for student&#39\;s safety.</span></span></span></strong></pre>\n
LOCATION:Adirondack Folk School 51 Main Street Lake Luzerne\, NY 12846
UID:e.2254.15646
SEQUENCE:3
DTSTAMP:20260421T015839Z
URL:http://saratogatourism-gzcms.preview.gochambermaster.com/events/details/blacksmithing-woodworking-and-timber-framing-tools-with-gerald-boggs-972-0730-5-days-july-30-august-3-07-30-2016-15646
END:VEVENT

END:VCALENDAR
