BEGIN:VCALENDAR
VERSION:2.0
PRODID:-//ChamberMaster//Event Calendar 2.0//EN
METHOD:PUBLISH
X-PUBLISHED-TTL:P3D
REFRESH-INTERVAL:P3D
CALSCALE:GREGORIAN
BEGIN:VEVENT
DTSTART:20150516T140000Z
DTEND:20150516T153000Z
X-MICROSOFT-CDO-ALLDAYEVENT:FALSE
SUMMARY:Birding and Nature Walk
DESCRIPTION:Join park naturalist Linda White\, meeting by the flag pole at the visitor center parking lot to caravan to special places in the park and see blooming flowers\, plants\, and migratory birds. Please bring water and insect repellent and wear sturdy shoes.  Event cancelled if raining.
X-ALT-DESC;FMTTYPE=text/html:<span style="font-size: 10pt\; line-height: 115%\; font-family: Georgia\, serif\;">Join park naturalist Linda White\, meeting by the flag pole at the visitor center parking lot to caravan to special places in the park and see blooming flowers\, plants\, and migratory birds. Please bring water and insect repellent and wear sturdy shoes.&nbsp\; </span><em><span style="font-size: 10pt\; line-height: 115%\; font-family: Georgia\, serif\;">Event cancelled if raining.&nbsp\;&nbsp\; </span></em><span style="font-size: 10pt\; line-height: 115%\; font-family: Georgia\, serif\;">&nbsp\; &nbsp\; &nbsp\;&nbsp\;</span><br>
LOCATION:Saratoga National Historical Park
UID:e.2254.4895
SEQUENCE:3
DTSTAMP:20260423T181842Z
URL:http://saratogatourism-gzcms.preview.gochambermaster.com/events/details/birding-and-nature-walk-05-16-2015-4895
END:VEVENT

END:VCALENDAR
