BEGIN:VCALENDAR
VERSION:2.0
PRODID:-//ChamberMaster//Event Calendar 2.0//EN
METHOD:PUBLISH
X-PUBLISHED-TTL:P3D
REFRESH-INTERVAL:P3D
CALSCALE:GREGORIAN
BEGIN:VEVENT
DTSTART:20150801T140000Z
DTEND:20150801T180000Z
X-MICROSOFT-CDO-ALLDAYEVENT:FALSE
SUMMARY:Big Truck Day
DESCRIPTION:Be sure to save the date for this popular event! Big Truck Day is one of The Children?s Museum at Saratoga's primary fundraisers\, which allows the Museum to offer quality programs and learning opportunities to families throughout the capital region and beyond! The event will feature trucks of all shapes and sizes for children to tour. There will also be a bounce house\, food vendors\, and tons of activities for the whole family including Mr. Twisty with his famous balloons and Go Kids with a fun obstacle course! Pre-sale tickets are now on sale! Jump ahead of the line at the event by getting your Big Truck Day tickets today! Simply visit the museum's website to order online or stop in the Museum and inquire at the front desk. The Children's Museum looks forward to seeing you there! Rain date: Saturday\, August 8th.
X-ALT-DESC;FMTTYPE=text/html:Be sure to save the date for this popular event! Big Truck Day is one of The Children?s Museum at Saratoga&#39\;s primary fundraisers\, which allows the Museum to offer quality programs and learning opportunities to families throughout the capital region and beyond! The event will feature trucks of all shapes and sizes for children to tour. There will also be a bounce house\, food vendors\, and tons of activities for the whole family including Mr. Twisty with his famous balloons and Go Kids with a fun obstacle course! Pre-sale tickets are now on sale! Jump ahead of the line at the event by getting your Big Truck Day tickets today! Simply visit the museum&#39\;s website to order online or stop in the Museum and inquire at the front desk. The Children&#39\;s Museum looks forward to seeing you there! Rain date: Saturday\, August 8th.
LOCATION:Maple Avenue Middle School Parking Lot 515 Maple Avenue Saratoga Springs\, NY 12866
UID:e.2254.10028
SEQUENCE:3
DTSTAMP:20260423T014316Z
URL:http://saratogatourism-gzcms.preview.gochambermaster.com/events/details/big-truck-day-08-01-2015-10028
END:VEVENT

END:VCALENDAR
