BEGIN:VCALENDAR
VERSION:2.0
PRODID:-//ChamberMaster//Event Calendar 2.0//EN
METHOD:PUBLISH
X-PUBLISHED-TTL:P3D
REFRESH-INTERVAL:P3D
CALSCALE:GREGORIAN
BEGIN:VEVENT
DTSTART:20170619T130000Z
DTEND:20170619T200000Z
X-MICROSOFT-CDO-ALLDAYEVENT:FALSE
SUMMARY:Beginning Blacksmithing for Women with Caitlin Morris. #1076-0619. 3 Days.
DESCRIPTION:Discover the magic of moving hot metal! Learn the basic skills (including everything from hammer control and fire maintenance to forge welding)\, through simple and practical projects. Individualized instruction to help you feel strong\, confident and comfortable in the workshop. Open to all skill levels and abilities.\n \nNOTE:  Hard shoes and long pants are required for student safety. If you have safety equipment or tools that are comfortable and fit your body\, you may bring them. All other safety materials will be provided.
X-ALT-DESC;FMTTYPE=text/html:<pre>\n<span style="font-family: arial\,sans-serif\;"><span style="font-size: medium\;">Discover the magic of moving hot metal! Learn the basic skills (including everything from hammer control and fire maintenance to forge welding)\, through simple and practical projects. Individualized instruction to help you feel strong\, confident and comfortable in the workshop. Open to all skill levels and abilities.</span></span>\n&nbsp\;\n<strong><span style="font-family: arial\,sans-serif\;"><span style="color: black\;"><span style="font-size: medium\;">NOTE:&nbsp\; Hard shoes and long pants are required for student safety. If you have safety equipment or tools that are comfortable and fit your body\, you may bring them. All other safety materials will be provided.</span></span></span></strong>\n</pre>\n
LOCATION:Adirondack Folk School 51 Main Street Lake Luzerne\, NY 12846
UID:e.2254.23125
SEQUENCE:3
DTSTAMP:20260420T021212Z
URL:http://saratogatourism-gzcms.preview.gochambermaster.com/events/details/beginning-blacksmithing-for-women-with-caitlin-morris-1076-0619-3-days-23125
END:VEVENT

END:VCALENDAR
