BEGIN:VCALENDAR
VERSION:2.0
PRODID:-//ChamberMaster//Event Calendar 2.0//EN
METHOD:PUBLISH
X-PUBLISHED-TTL:P3D
REFRESH-INTERVAL:P3D
CALSCALE:GREGORIAN
BEGIN:VEVENT
DTSTART:20160914T210000Z
DTEND:20160914T230000Z
X-MICROSOFT-CDO-ALLDAYEVENT:FALSE
SUMMARY:Back to School\, Back to Business
DESCRIPTION:Summer is winding down\, which means kids are about to head back to school and adults are getting back to business. Join the Saratoga County Prosperity Partnership for an evening of networking with Saratoga County business leaders on Wednesday\, September 14 at Saratoga National Golf Club to talk about what's on the docket for fall. Register today!
X-ALT-DESC;FMTTYPE=text/html:Summer is winding down\, which means kids are about to head back to school and adults are getting back to business. Join the Saratoga County Prosperity Partnership for an evening of networking with Saratoga County business leaders on Wednesday\, September 14 at Saratoga National Golf Club to talk about what&#39\;s on the docket for fall. Register today!
LOCATION:Saratoga National Golf Club
UID:e.2254.18604
SEQUENCE:3
DTSTAMP:20260420T230712Z
URL:http://saratogatourism-gzcms.preview.gochambermaster.com/events/details/back-to-school-back-to-business-09-14-2016-18604
END:VEVENT

END:VCALENDAR
