BEGIN:VCALENDAR
VERSION:2.0
PRODID:-//ChamberMaster//Event Calendar 2.0//EN
METHOD:PUBLISH
X-PUBLISHED-TTL:P3D
REFRESH-INTERVAL:P3D
CALSCALE:GREGORIAN
BEGIN:VEVENT
DTSTART:20160331T210000Z
DTEND:20160401T010000Z
X-MICROSOFT-CDO-ALLDAYEVENT:FALSE
SUMMARY:Awards Banquet and Silent Auction
DESCRIPTION:Proceeds benefit United Way of the Greater Capital Region and Ronald McDonald House Charities of the Capital Region.\n\n\n\nCelebrate the finale of the Cabin Fever Classic Golf Fore a Cause with the Awards Banquet and Silent Auction on March 31\, 2016 at Saratoga National Golf Club!\n\n\n\nThe Cabin Fever Classic Golf Fore A Cause event is February 29-March 30\, 2016 at Tark's Indoor Golf Club. Foursomes can schedule play at their convenience (scramble format).\n\n\n\n$395/foursome\n\nIncludes 4 tickets to Awards Banquet\n\n\n\n$50/person for the Awards Banquet on March 31 at Saratoga National Golf Club\n\nNo golf included
X-ALT-DESC;FMTTYPE=text/html:<p>Proceeds benefit United Way of the Greater Capital Region and Ronald McDonald House Charities of the Capital Region.<br />\n<br />\nCelebrate the finale of the Cabin Fever Classic Golf Fore a Cause with the Awards Banquet and Silent Auction on March 31\, 2016 at Saratoga National Golf Club!<br />\n<br />\nThe Cabin Fever Classic Golf Fore A Cause event is February 29-March 30\, 2016 at Tark&#39\;s Indoor Golf Club. Foursomes can schedule play at their convenience (scramble format).<br />\n<br />\n$395/foursome<br />\nIncludes 4 tickets to Awards Banquet<br />\n<br />\n$50/person for the Awards Banquet on March 31 at Saratoga National Golf Club<br />\nNo golf included</p>\n
LOCATION:Saratoga National Golf Club
UID:e.2254.13299
SEQUENCE:3
DTSTAMP:20260422T000046Z
URL:http://saratogatourism-gzcms.preview.gochambermaster.com/events/details/awards-banquet-and-silent-auction-03-31-2016-13299
END:VEVENT

END:VCALENDAR
