BEGIN:VCALENDAR
VERSION:2.0
PRODID:-//ChamberMaster//Event Calendar 2.0//EN
METHOD:PUBLISH
X-PUBLISHED-TTL:P3D
REFRESH-INTERVAL:P3D
CALSCALE:GREGORIAN
BEGIN:VEVENT
DTSTART:20170331T230000Z
DTEND:20170401T003000Z
X-MICROSOFT-CDO-ALLDAYEVENT:FALSE
SUMMARY:Astronomy Party
DESCRIPTION:Join us and our friends from Adirondack Skywatchers and the Albany Area Amateur Astronomers\, Inc. as we study the night sky in all of its beauty. We will be focusing on the Moon and the stars! There will be telescopes available for gazing and we will also be learning some of the constellations in our night sky. Space is limited and preregistration is required.
X-ALT-DESC;FMTTYPE=text/html:Join us and our friends from Adirondack Skywatchers and the Albany Area Amateur Astronomers\, Inc. as we study the night sky in all of its beauty. We will be focusing on the Moon and the stars! There will be telescopes available for gazing and we will also be learning some of the constellations in our night sky. Space is limited and preregistration is required.
LOCATION:Access to Camp Saratoga North Parking Lot 1 on Scout Road in Gansevoort
UID:e.2254.22936
SEQUENCE:3
DTSTAMP:20260420T070556Z
URL:http://saratogatourism-gzcms.preview.gochambermaster.com/events/details/astronomy-party-22936
END:VEVENT

END:VCALENDAR
