BEGIN:VCALENDAR
VERSION:2.0
PRODID:-//ChamberMaster//Event Calendar 2.0//EN
METHOD:PUBLISH
X-PUBLISHED-TTL:P3D
REFRESH-INTERVAL:P3D
CALSCALE:GREGORIAN
BEGIN:VEVENT
DTSTART:20151010T160000Z
DTEND:20151010T210000Z
X-MICROSOFT-CDO-ALLDAYEVENT:FALSE
SUMMARY:Angel Names Memorial Walk 2015
DESCRIPTION:Angel Names Association (ANA) will hold its 10th Annual Memorial Walk on Saturday\, October 10\, 2015 at the Saratoga State Spa Park in Saratoga Springs\, NY. The walk is being held in recognition of National Pregnancy Loss and Infant Death Awareness month. Registration begins at 12:00 pm and the walk will follow at 1:15 pm. There will also be a Nondenominatonal Memorial/Flower Ceremony @ 3:45 pm. The day includes children's activities\, light refreshments and prizes. Everyone is welcomed to attend this uplifting\, free family event to walk and raise awareness of pregnancy loss and infant death. For additional information\, visit www.angelnames.org or contact Michelle Mosca at mgmosca@msn.com . Come walk with us on October 10\, 2015! ??
X-ALT-DESC;FMTTYPE=text/html:Angel Names Association (ANA) will hold its 10th Annual Memorial Walk on Saturday\, October 10\, 2015 at the Saratoga State Spa Park in Saratoga Springs\, NY. The walk is being held in recognition of National Pregnancy Loss and Infant Death Awareness month. Registration begins at 12:00 pm and the walk will follow at 1:15 pm. There will also be a Nondenominatonal Memorial/Flower Ceremony @ 3:45 pm. The day includes children&#39\;s activities\, light refreshments and prizes. Everyone is welcomed to attend this uplifting\, free family event to walk and raise awareness of pregnancy loss and infant death. For additional information\, visit www.angelnames.org or contact Michelle Mosca at mgmosca@msn.com . Come walk with us on October 10\, 2015! ??
LOCATION:Saratoga State Spa Park 19 Roosevelt DR Saratoga Springs\, NY 12866
UID:e.2254.12351
SEQUENCE:3
DTSTAMP:20260422T165620Z
URL:http://saratogatourism-gzcms.preview.gochambermaster.com/events/details/angel-names-memorial-walk-2015-10-10-2015-12351
END:VEVENT

END:VCALENDAR
