BEGIN:VCALENDAR
VERSION:2.0
PRODID:-//ChamberMaster//Event Calendar 2.0//EN
METHOD:PUBLISH
X-PUBLISHED-TTL:P3D
REFRESH-INTERVAL:P3D
CALSCALE:GREGORIAN
BEGIN:VEVENT
DTSTART:20170401T223000Z
DTEND:20170402T030000Z
X-MICROSOFT-CDO-ALLDAYEVENT:FALSE
SUMMARY:American Red Cross Fire + Ice Gala
DESCRIPTION:The Fire + Ice Gala is the American Red Cross' signature fundraising event in the greater Capital Region. Much of the funding used throughout the year to provide life-saving services in local communities comes from those who support and attend this special event. The evening's theme "Fire + Ice" serves as a reminder of the disasters the Red Cross responds to most often in our region. Each year\, Red Cross workers in Northeastern New York provide help and hope to more than 300 local families affected by home fires\, ice storms\, and other unexpected catastrophes. Every dollar raised at the 2017 Fire + Ice Gala will be used in our daily efforts to prevent\, prepare for and respond to emergencies like these. The gala benefits the American Red Cross of Northeastern New York Chapter\, which serves 9 local counties including Albany\, Saratoga\, Schenectady and Rensselaer\, with offices in Albany and Glens Falls.
X-ALT-DESC;FMTTYPE=text/html:The Fire + Ice Gala is the American Red Cross&#39\; signature fundraising event in the greater Capital Region. Much of the funding used throughout the year to provide life-saving services in local communities comes from those who support and attend this special event. The evening&#39\;s theme &ldquo\;Fire + Ice&quot\; serves as a reminder of the disasters the Red Cross responds to most often in our region. Each year\, Red Cross workers in Northeastern New York provide help and hope to more than 300 local families affected by home fires\, ice storms\, and other unexpected catastrophes. Every dollar raised at the 2017 Fire + Ice Gala will be used in our daily efforts to prevent\, prepare for and respond to emergencies like these. The gala benefits the American Red Cross of Northeastern New York Chapter\, which serves 9 local counties including Albany\, Saratoga\, Schenectady and Rensselaer\, with offices in Albany and Glens Falls.
LOCATION:Albany Capital Center 55 Eagle St. Albany NY
UID:e.2254.21179
SEQUENCE:3
DTSTAMP:20260420T052142Z
URL:http://saratogatourism-gzcms.preview.gochambermaster.com/events/details/american-red-cross-fire-ice-gala-21179
END:VEVENT

END:VCALENDAR
