BEGIN:VCALENDAR
VERSION:2.0
PRODID:-//ChamberMaster//Event Calendar 2.0//EN
METHOD:PUBLISH
X-PUBLISHED-TTL:P3D
REFRESH-INTERVAL:P3D
CALSCALE:GREGORIAN
BEGIN:VEVENT
DTSTART:20160118T150000Z
DTEND:20160118T210000Z
X-MICROSOFT-CDO-ALLDAYEVENT:FALSE
SUMMARY:Albany Times Union/Monster Job Fair
DESCRIPTION:Monday\, January 18th 10am-4pm ALBANY MARRIOTT\, 189 WOLF ROAD\, COLONIE LARGEST JOB FAIR IN THE CAPITAL REGION TOP EMPLOYERS READY TO HIRE! BRING COPIES OF YOUR RESUME AND DRESS FOR SUCCESS! Come to the area's biggest and best Job Fair. Meet Face-to-Face with Employers Who Are Looking to Hire YOU! For more info and a complete list of attending companies\, please visit our website at http://timesunionjobfair.com/ EMPLOYERS - To Reserve your booth\, contact Erin Rosa at 518-454-5493 or erosa@timesunion.com
X-ALT-DESC;FMTTYPE=text/html:Monday\, January 18th 10am-4pm ALBANY MARRIOTT\, 189 WOLF ROAD\, COLONIE LARGEST JOB FAIR IN THE CAPITAL REGION TOP EMPLOYERS READY TO HIRE! BRING COPIES OF YOUR RESUME AND DRESS FOR SUCCESS! Come to the area&#39\;s biggest and best Job Fair. Meet Face-to-Face with Employers Who Are Looking to Hire YOU! For more info and a complete list of attending companies\, please visit our website at http://timesunionjobfair.com/ EMPLOYERS - To Reserve your booth\, contact Erin Rosa at 518-454-5493 or erosa@timesunion.com
LOCATION:Albany Marriott
UID:e.2254.13174
SEQUENCE:3
DTSTAMP:20260422T074204Z
URL:http://saratogatourism-gzcms.preview.gochambermaster.com/events/details/albany-times-union-monster-job-fair-01-18-2016-13174
END:VEVENT

END:VCALENDAR
