BEGIN:VCALENDAR
VERSION:2.0
PRODID:-//ChamberMaster//Event Calendar 2.0//EN
METHOD:PUBLISH
X-PUBLISHED-TTL:P3D
REFRESH-INTERVAL:P3D
CALSCALE:GREGORIAN
BEGIN:VEVENT
DTSTART:20150412T190000Z
DTEND:20150412T220000Z
X-MICROSOFT-CDO-ALLDAYEVENT:FALSE
SUMMARY:ADK Shakespeare Co presents ROMEO & JULIET
DESCRIPTION:Fully professional theater on tour throughout the Adirondacks. Don't miss a moment of this classic tale of star-crossed lovers as Adirondack Shakespeare Company proudly presents every magnificent\, lyrical word. One of Shakespeare's early tragedies\, this play explores the ideals and the dangers of passion\, duty\, and civil strife. This audience favorite endures as perhaps our culture's most poignant and human depiction of the these themes\, witnessed through the eyes of young\, violent\, passionate love.
X-ALT-DESC;FMTTYPE=text/html:Fully professional theater on tour throughout the Adirondacks. Don&#39\;t miss a moment of this classic tale of star-crossed lovers as Adirondack Shakespeare Company proudly presents every magnificent\, lyrical word. One of Shakespeare&#39\;s early tragedies\, this play explores the ideals and the dangers of passion\, duty\, and civil strife. This audience favorite endures as perhaps our culture&#39\;s most poignant and human depiction of the these themes\, witnessed through the eyes of young\, violent\, passionate love.
LOCATION:National Museum of Dance\, Riggi Theater 99 S. Broadway Saratoga Springs
UID:e.2254.6145
SEQUENCE:3
DTSTAMP:20260423T195059Z
URL:http://saratogatourism-gzcms.preview.gochambermaster.com/events/details/adk-shakespeare-co-presents-romeo-juliet-04-12-2015-6145
END:VEVENT

END:VCALENDAR
