BEGIN:VCALENDAR
VERSION:2.0
PRODID:-//ChamberMaster//Event Calendar 2.0//EN
METHOD:PUBLISH
X-PUBLISHED-TTL:P3D
REFRESH-INTERVAL:P3D
CALSCALE:GREGORIAN
BEGIN:VEVENT
DTSTART:20160723T160000Z
DTEND:20160723T200000Z
X-MICROSOFT-CDO-ALLDAYEVENT:FALSE
SUMMARY:Adirondack Wildflower Portrait with Roberta Games. #978-0723.
DESCRIPTION:No need to be a great artist! In this class\, weather permitting\, students will sketch local wildflowers and discuss Adirondack flora. Transferring the sketches (or using stencils) onto watercolor papers using watercolors\, acrylics and colored pencils\, students will learn techniques such as simple washes\, masking and tamping to complete the "portrait". After drying they will be ready for framing in simple frames (included). Students please bring a hairdryer.
X-ALT-DESC;FMTTYPE=text/html:<pre>\n<span style="font-size:12pt"><span style="font-family:arial\,sans-serif"><span style="color:black">No need to be a great artist! In this class\, weather permitting\, students will sketch local wildflowers and discuss Adirondack flora. Transferring the sketches (or using stencils) onto watercolor papers using watercolors\, acrylics and colored pencils\, students will learn techniques such as simple washes\, masking and tamping to complete the &quot\;portrait&quot\;. After drying they will be ready for framing in simple frames (included). Students please bring a hairdryer.</span></span></span></pre>\n
LOCATION:Adirondack Folk School 51 Main Street Lake Luzerne\, NY 12846
UID:e.2254.15636
SEQUENCE:3
DTSTAMP:20260421T031053Z
URL:http://saratogatourism-gzcms.preview.gochambermaster.com/events/details/adirondack-wildflower-portrait-with-roberta-games-978-0723-07-23-2016-15636
END:VEVENT

END:VCALENDAR
