BEGIN:VCALENDAR
VERSION:2.0
PRODID:-//ChamberMaster//Event Calendar 2.0//EN
METHOD:PUBLISH
X-PUBLISHED-TTL:P3D
REFRESH-INTERVAL:P3D
CALSCALE:GREGORIAN
BEGIN:VEVENT
DTSTART:20161204T180000Z
DTEND:20161204T210000Z
X-MICROSOFT-CDO-ALLDAYEVENT:FALSE
SUMMARY:Adirondack Twig Topiary with Roberta Games. #945-1204.
DESCRIPTION:Pines and balsam\, of course\, will decorate this twig topiary for the holidays. In this class\, students will also learn to make roping\, bows and a pine cone star to top the "tree". After the holidays\, recycle your tree in the garden as a twig trellis. Bring your garden gloves.
X-ALT-DESC;FMTTYPE=text/html:<pre>\n<span style="color:black"><span style="font-family:arial\,sans-serif"><span style="font-size:12.0pt">Pines and balsam\, of course\, will decorate this twig topiary for the holidays. In this class\, students will also learn to make roping\, bows and a pine cone star to top the &quot\;tree&quot\;. After the holidays\, recycle your tree in the garden as a twig trellis. Bring your garden gloves</span></span></span><span style="font-family:arial\,sans-serif"><span style="font-size:small">.</span></span></pre>\n
LOCATION:Adirondack Folk School 51 Main Street Lake Luzerne\, NY 12846
UID:e.2254.19485
SEQUENCE:3
DTSTAMP:20260420T170413Z
URL:http://saratogatourism-gzcms.preview.gochambermaster.com/events/details/adirondack-twig-topiary-with-roberta-games-945-1204-19485
END:VEVENT

END:VCALENDAR
