BEGIN:VCALENDAR
VERSION:2.0
PRODID:-//ChamberMaster//Event Calendar 2.0//EN
METHOD:PUBLISH
X-PUBLISHED-TTL:P3D
REFRESH-INTERVAL:P3D
CALSCALE:GREGORIAN
BEGIN:VEVENT
DTSTART:20150117T190000Z
DTEND:20150117T220000Z
X-MICROSOFT-CDO-ALLDAYEVENT:FALSE
SUMMARY:Adirondack Flames vs. Milwaukee - 01/17/2015
DESCRIPTION:Adirondack Flames Hockey\n\nSaturday Night is Hockey Night in Glens Falls\, presented by Bud Light.  Pink in the Rink presented by Glens Falls Hospital.  Players will wear authentic\, game worn pink jerseys to be auctioned after the game with proceeds to benefit the CR Wood Cancer Center.
X-ALT-DESC;FMTTYPE=text/html:<p>Adirondack Flames Hockey</p>\n\n<div style="line-height: normal\; font-family: Arial\, Helvetica\, sans-serif\; font-size: 16px\; background-color: rgb(255\, 255\, 255)\;">Saturday Night is Hockey Night in Glens Falls\, presented by Bud Light. &nbsp\;Pink in the Rink presented by Glens Falls Hospital. &nbsp\;Players will wear authentic\, game worn pink jerseys to be auctioned after the game with proceeds to benefit the CR Wood Cancer Center.&nbsp\;</div>\n\n<div>&nbsp\;</div>\n
LOCATION:Glens Falls Civic Center
UID:e.2254.2136
SEQUENCE:3
DTSTAMP:20260424T045924Z
URL:http://saratogatourism-gzcms.preview.gochambermaster.com/events/details/adirondack-flames-vs-milwaukee-01-17-2015-01-17-2015-2136
END:VEVENT

END:VCALENDAR
