BEGIN:VCALENDAR
VERSION:2.0
PRODID:-//ChamberMaster//Event Calendar 2.0//EN
METHOD:PUBLISH
X-PUBLISHED-TTL:P3D
REFRESH-INTERVAL:P3D
CALSCALE:GREGORIAN
BEGIN:VEVENT
DTSTART:20160409T210000Z
DTEND:20160410T010000Z
X-MICROSOFT-CDO-ALLDAYEVENT:FALSE
SUMMARY:A Spring Thing - Auction to Benefit the Waldorf School of Saratoga Springs
DESCRIPTION:Live and Silent Auctions with a Moveable Feast provided by Lily and the Rose!  All to benefit the Waldorf School of Saratoga Springs
X-ALT-DESC;FMTTYPE=text/html:Live and Silent Auctions with a Moveable Feast provided by Lily and the Rose!&nbsp\; All to benefit the Waldorf School of Saratoga Springs
LOCATION:122 Regent St Saratoga Springs\, NY 12866
UID:e.2254.14428
SEQUENCE:3
DTSTAMP:20260421T154334Z
URL:http://saratogatourism-gzcms.preview.gochambermaster.com/events/details/a-spring-thing-auction-to-benefit-the-waldorf-school-of-saratoga-springs-04-09-2016-14428
END:VEVENT

END:VCALENDAR
