BEGIN:VCALENDAR
VERSION:2.0
PRODID:-//ChamberMaster//Event Calendar 2.0//EN
METHOD:PUBLISH
X-PUBLISHED-TTL:P3D
REFRESH-INTERVAL:P3D
CALSCALE:GREGORIAN
BEGIN:VEVENT
DTSTART:20160821T140000Z
DTEND:20160821T170000Z
X-MICROSOFT-CDO-ALLDAYEVENT:FALSE
SUMMARY:"A Moose in My Staring Gate" Book Launch Party and Free Family Fun Day
DESCRIPTION:Calling children everywhere... The BIG RACE is on! On Sunday\, August 21st from 10AM till 1PM the National Museum of Racing and Fame will be holding a FREE FAMILY FUN DAY to celebrate the Official Release of the children's book "A Moose in My Starting Gate". If you liked the award winning book "A Moose in My Stable" you'll love the book's sequel "A Moose in My Starting Gate"!!! The National Museum of Racing and Hall of Fame is located at 191 Union Ave. in downtown Saratoga Springs. Come and join in the fun. You'll have a chance to meet the author\, Vicki Addesso Dodd\, illustrator\, Patrick Jankowski and special guest of honor LONGSHOT the MOOSE and have them sign the book just for you. Come and hear the author read the new book from the BIG SCREEN in the Hall of Champion\, make your own racehorse\, selfie boot\, craft and more. ALL FREE!!! Each book will include a racing form. Grab one and join the BIG RACE fun through Broadway\, complete the challenge and Wim Your 1st Place Ribbon!! A Moose in My Staring Gate and all Saratoga Springs Publishing books will be available at the event. A portion of book sale will be donated to the Museum of Racing. For more information\, please visit www.facebook.com/saratogaSpringsPublishingLLC or www.SaratogaSpringsPublishing.com
X-ALT-DESC;FMTTYPE=text/html:Calling children everywhere... The BIG RACE is on! On Sunday\, August 21st from 10AM till 1PM the National Museum of Racing and Fame will be holding a FREE FAMILY FUN DAY to celebrate the Official Release of the children&#39\;s book &quot\;A Moose in My Starting Gate&quot\;. If you liked the award winning book &quot\;A Moose in My Stable&quot\; you&#39\;ll love the book&#39\;s sequel &quot\;A Moose in My Starting Gate&quot\;!!! The National Museum of Racing and Hall of Fame is located at 191 Union Ave. in downtown Saratoga Springs. Come and join in the fun. You&#39\;ll have a chance to meet the author\, Vicki Addesso Dodd\, illustrator\, Patrick Jankowski and special guest of honor LONGSHOT the MOOSE and have them sign the book just for you. Come and hear the author read the new book from the BIG SCREEN in the Hall of Champion\, make your own racehorse\, selfie boot\, craft and more. ALL FREE!!! Each book will include a racing form. Grab one and join the BIG RACE fun through Broadway\, complete the challenge and Wim Your 1st Place Ribbon!! A Moose in My Staring Gate and all Saratoga Springs Publishing books will be available at the event. A portion of book sale will be donated to the Museum of Racing. For more information\, please visit www.facebook.com/saratogaSpringsPublishingLLC or www.SaratogaSpringsPublishing.com
LOCATION:National Museum of Racing and Hall of Fame\, 191 Union Ave. Downtown Saratoga Springs
UID:e.2254.17359
SEQUENCE:3
DTSTAMP:20260420T225846Z
URL:http://saratogatourism-gzcms.preview.gochambermaster.com/events/details/a-moose-in-my-staring-gate-book-launch-party-and-free-family-fun-day-08-21-2016-17359
END:VEVENT

END:VCALENDAR
