BEGIN:VCALENDAR
VERSION:2.0
PRODID:-//ChamberMaster//Event Calendar 2.0//EN
METHOD:PUBLISH
X-PUBLISHED-TTL:P3D
REFRESH-INTERVAL:P3D
CALSCALE:GREGORIAN
BEGIN:VEVENT
DTSTART:20150724T230000Z
DTEND:20150725T030000Z
X-MICROSOFT-CDO-ALLDAYEVENT:FALSE
SUMMARY:65 Roses...The Opening Day Soiree
DESCRIPTION:The Cystic Fibrosis Foundation hosts the 37th Annual 65 Roses...The Opening Day Soiree. Enjoy the evening on Opening Day at Saratoga! The opening day excitement continues at the exquisite and unique Fasig Tipton Horse Auction Stables. Our evening recognizes the Golub Family: Neil & Jane\, Jerry & Geraldine\, David & Andrea\, Mona & Marie for their commitment to local philanthropy and loyalty to the CF Foundation. Enjoy music and dancing with Gravity\, dinner stations by Mazzone Catering\, open bar\, craft beer\, specialty drinks while browsing an extensive auction including one-of-a-kind items\, get-aways and much more!
X-ALT-DESC;FMTTYPE=text/html:The Cystic Fibrosis Foundation hosts the 37th Annual 65 Roses...The Opening Day Soiree. Enjoy the evening on Opening Day at Saratoga! The opening day excitement continues at the exquisite and unique Fasig Tipton Horse Auction Stables. Our evening recognizes the Golub Family: Neil &amp\; Jane\, Jerry &amp\; Geraldine\, David &amp\; Andrea\, Mona &amp\; Marie for their commitment to local philanthropy and loyalty to the CF Foundation. Enjoy music and dancing with Gravity\, dinner stations by Mazzone Catering\, open bar\, craft beer\, specialty drinks while browsing an extensive auction including one-of-a-kind items\, get-aways and much more!
LOCATION:Fasig Tipton
UID:e.2254.6922
SEQUENCE:3
DTSTAMP:20260423T033704Z
URL:http://saratogatourism-gzcms.preview.gochambermaster.com/events/details/65-roses-the-opening-day-soiree-07-24-2015-6922
END:VEVENT

END:VCALENDAR
