BEGIN:VCALENDAR
VERSION:2.0
PRODID:-//ChamberMaster//Event Calendar 2.0//EN
METHOD:PUBLISH
X-PUBLISHED-TTL:P3D
REFRESH-INTERVAL:P3D
CALSCALE:GREGORIAN
BEGIN:VEVENT
DTSTART;VALUE=DATE:20160124
DTEND;VALUE=DATE:20160404
TRANSP:TRANSPARENT
X-MICROSOFT-CDO-ALLDAYEVENT:TRUE
SUMMARY:60 from the 60s: Selections from the George Eastman Museum
DESCRIPTION:Exhibition featuring the work of significant photographers of the 60s\, including Harry Callahan\, Benedict J. Fernandez\, Hollis Frampton\, Betty Hahn\, Robert Heinecken\, Mary Ellen Mark\, Roger Mertin\, Arnold Newman\, Aaron Siskind\, and Garry Winogrand. The 1960s reflects a time of generational change and conflict expressed in this selection of sixty photographs from the George Eastman Museum in Rochester\, New York.
X-ALT-DESC;FMTTYPE=text/html:Exhibition featuring the work of significant photographers of the 60s\, including Harry Callahan\, Benedict J. Fernandez\, Hollis Frampton\, Betty Hahn\, Robert Heinecken\, Mary Ellen Mark\, Roger Mertin\, Arnold Newman\, Aaron Siskind\, and Garry Winogrand. The 1960s reflects a time of generational change and conflict expressed in this selection of sixty photographs from the George Eastman Museum in Rochester\, New York.
LOCATION:The Hyde Collection\, 161 Warren Street\, Glens Falls\, NY 12801
UID:e.2254.13555
SEQUENCE:3
DTSTAMP:20260421T171913Z
URL:http://saratogatourism-gzcms.preview.gochambermaster.com/events/details/60-from-the-60s-selections-from-the-george-eastman-museum-01-24-2016-13555
END:VEVENT

END:VCALENDAR
