BEGIN:VCALENDAR
VERSION:2.0
PRODID:-//ChamberMaster//Event Calendar 2.0//EN
METHOD:PUBLISH
X-PUBLISHED-TTL:P3D
REFRESH-INTERVAL:P3D
CALSCALE:GREGORIAN
BEGIN:VEVENT
DTSTART:20160312T180000Z
DTEND:20160312T210000Z
X-MICROSOFT-CDO-ALLDAYEVENT:FALSE
SUMMARY:2nd Annual #healthysaratoga HORSE Basketball Challenge
DESCRIPTION:Back by popular demand\, the Saratoga County Chamber of Commerce\, along with presenting sponsors The Adirondack Trust Company and BlueShield of Northeastern New York\, will host their 2nd Annual #healthysaratoga HORSE Basketball Challenge on Saturday\, March 12 at the Saratoga Regional YMCA. Challenge 31 other companies to a game of HORSE\, while competing against member businesses in a fun\, competitive networking environment. Spaces will fill up fast\, so be sure to reserve your spot today!
X-ALT-DESC;FMTTYPE=text/html:<span style="line-height: 21.33px\; font-family: arial\, sans-serif\; font-size: 13.33px\;">Back by popular demand\, the Saratoga County Chamber of Commerce\, along with presenting sponsors The Adirondack Trust Company and&nbsp\;</span>BlueShield<span style="line-height: 21.33px\; font-family: arial\, sans-serif\; font-size: 13.33px\;">&nbsp\;of Northeastern New York\, will host their 2nd Annual #</span>healthysaratoga<span style="line-height: 21.33px\; font-family: arial\, sans-serif\; font-size: 13.33px\;">&nbsp\;HORSE Basketball Challenge on Saturday\, March 12&nbsp\;at the Saratoga Regional YMCA. Challenge 31 other companies to a game of HORSE\, while competing against member businesses in a fun\, competitive networking environment. Spaces will fill up fast\, so be sure to reserve your spot today!</span>
LOCATION:Saratoga Regional YMCA 290 West Avenue\, Saratoga Springs
UID:e.2254.14403
SEQUENCE:3
DTSTAMP:20260422T001214Z
URL:http://saratogatourism-gzcms.preview.gochambermaster.com/events/details/2nd-annual-healthysaratoga-horse-basketball-challenge-03-12-2016-14403
END:VEVENT

END:VCALENDAR
