BEGIN:VCALENDAR
VERSION:2.0
PRODID:-//ChamberMaster//Event Calendar 2.0//EN
METHOD:PUBLISH
X-PUBLISHED-TTL:P3D
REFRESH-INTERVAL:P3D
CALSCALE:GREGORIAN
BEGIN:VEVENT
DTSTART:20150227T050000Z
DTEND:20150301T050000Z
X-MICROSOFT-CDO-ALLDAYEVENT:FALSE
SUMMARY:2015 Rotary Home and Lifestyle Show
DESCRIPTION:Rotary Home and Lifestyle Show
X-ALT-DESC;FMTTYPE=text/html:<p>Rotary Home and Lifestyle Show</p>\n
LOCATION:Saratoga Springs City Center
UID:e.2254.2109
SEQUENCE:3
DTSTAMP:20260423T195053Z
URL:http://saratogatourism-gzcms.preview.gochambermaster.com/events/details/2015-rotary-home-and-lifestyle-show-02-27-2015-2109
END:VEVENT

END:VCALENDAR
