BEGIN:VCALENDAR
VERSION:2.0
PRODID:-//ChamberMaster//Event Calendar 2.0//EN
METHOD:PUBLISH
X-PUBLISHED-TTL:P3D
REFRESH-INTERVAL:P3D
CALSCALE:GREGORIAN
BEGIN:VEVENT
DTSTART:20140810T140000Z
DTEND:20140810T190000Z
X-MICROSOFT-CDO-ALLDAYEVENT:FALSE
SUMMARY:18th-Century Day - 08/10/2014
DESCRIPTION:Step back in time at the historic Schuyler House as the grounds come alive with 18th-century activities.Step back in time at the historic Schuyler House as the grounds come alive with 18th-century activities. Listen to music\, see puppet shows\, chair caning\, candle making\, rope making\, beer brewing\, spinning\, dyeing\, quilting\, blacksmithing\, tinsmithing and more. Hosted by the Old Saratoga Historical Association.
X-ALT-DESC;FMTTYPE=text/html:<p>Step back in time at the historic Schuyler House as the grounds come alive with 18th-century activities.</p><span style="font-size: 10pt\; line-height: 115%\; font-family: 'Times New Roman'\, serif\;">Step back in time at the historic Schuyler House as the grounds come alive with 18th-century activities. Listen to music\, see puppet shows\, chair caning\, candle making\, rope making\, beer brewing\, spinning\, dyeing\, quilting\, blacksmithing\, tinsmithing and more. Hosted by the Old Saratoga Historical Association.</span><br>
LOCATION:Schuyler House - Saratoga National Historical Park
UID:e.2254.2293
SEQUENCE:3
DTSTAMP:20260424T132623Z
URL:http://saratogatourism-gzcms.preview.gochambermaster.com/events/details/18th-century-day-08-10-2014-08-10-2014-2293
END:VEVENT

END:VCALENDAR
