BEGIN:VCALENDAR
VERSION:2.0
PRODID:-//ChamberMaster//Event Calendar 2.0//EN
METHOD:PUBLISH
X-PUBLISHED-TTL:P3D
REFRESH-INTERVAL:P3D
CALSCALE:GREGORIAN
BEGIN:VEVENT
DTSTART:20150606T120000Z
DTEND:20150606T170000Z
X-MICROSOFT-CDO-ALLDAYEVENT:FALSE
SUMMARY:17th Annual Franklin Open Golf Tournament
DESCRIPTION:Annual golf tournament fundraiser to support Franklin Community Center.
X-ALT-DESC;FMTTYPE=text/html:Annual golf tournament fundraiser to support Franklin Community Center.
LOCATION:Windy Hills Golf Course 219 Windy Hills Road Greenwich\, NY 12834
UID:e.2254.4989
SEQUENCE:3
DTSTAMP:20260423T070441Z
URL:http://saratogatourism-gzcms.preview.gochambermaster.com/events/details/17th-annual-franklin-open-golf-tournament-06-06-2015-4989
END:VEVENT

END:VCALENDAR
