BEGIN:VCALENDAR
VERSION:2.0
PRODID:-//ChamberMaster//Event Calendar 2.0//EN
METHOD:PUBLISH
X-PUBLISHED-TTL:P3D
REFRESH-INTERVAL:P3D
CALSCALE:GREGORIAN
BEGIN:VEVENT
DTSTART:20141211T000000Z
DTEND:20141211T030000Z
X-MICROSOFT-CDO-ALLDAYEVENT:FALSE
SUMMARY:- 12/10/2014
DESCRIPTION:Adirondack Flames HockeyApplebee’s on Quaker Road holding specials prior to puck drop and promotions throughout the night from Empire Broadcasting.
X-ALT-DESC;FMTTYPE=text/html:<p>Adirondack Flames Hockey</p><span style="font-family: Arial\, Helvetica\, sans-serif\; font-size: 16px\; line-height: normal\; background-color: rgb(255\, 255\, 255)\;">Applebee’s on Quaker Road holding specials prior to puck drop and promotions throughout the night from Empire Broadcasting.&nbsp\;</span><br>
LOCATION:Glens Falls Civic Center
UID:e.2254.2129
SEQUENCE:3
DTSTAMP:20260424T055814Z
URL:http://saratogatourism-gzcms.preview.gochambermaster.com/events/details/12-10-2014-12-10-2014-2129
END:VEVENT

END:VCALENDAR
