BEGIN:VCALENDAR
VERSION:2.0
PRODID:-//ChamberMaster//Event Calendar 2.0//EN
METHOD:PUBLISH
X-PUBLISHED-TTL:P3D
REFRESH-INTERVAL:P3D
CALSCALE:GREGORIAN
BEGIN:VEVENT
DTSTART:20141122T150000Z
DTEND:20141123T220000Z
X-MICROSOFT-CDO-ALLDAYEVENT:FALSE
SUMMARY:- 11/22/2014
DESCRIPTION:The Capital Region’s Outdoor Sports\, Healthy Living and Travel Expo!A huge variety of exhibitors plus exciting demos\, seminars\, sales and family activities.\n EVERYTHING\nYou Need for\nSummer &\nWinter Sports!\nRunning   Cycling\nSnowshoeing   Hiking\n125 Exhibitors   Sales on Gear\, Clothing\, Footwear\nDemos   Seminars & Clinics   Family Activities\nFor More Info or To Become an Exhibitor:\n(518) 877-8788   Info@AdkSports.com\nTriathlon   Paddling   Skiing\nHolistic   Wellness   Travel\nFREE\nADMISSION!\n$5\,000\nIN PRIZES!\nIn partnership with Healing Springs Journal
X-ALT-DESC;FMTTYPE=text/html:<p>The Capital Region’s Outdoor Sports\, Healthy Living and Travel Expo!</p><p><strong>A huge variety of exhibitors plus exciting demos\, seminars\, sales and family activities.</strong></p>\n<p>&nbsp\;EVERYTHING</p>\n<p align="left">You Need for</p>\n<p align="left">Summer &amp\;</p>\n<p align="left">Winter Sports!</p>\n<p align="left">Running &bull\; Cycling</p>\n<p align="left">Snowshoeing &bull\; Hiking</p>\n<p align="left">125 Exhibitors &bull\; Sales on Gear\, Clothing\, Footwear</p>\n<p align="left">Demos &bull\; Seminars &amp\; Clinics &bull\; Family Activities</p>\n<p align="left">For More Info or To Become an Exhibitor:</p>\n<p align="left">(518) 877-8788 &bull\; Info@AdkSports.com</p>\n<p align="left">Triathlon &bull\; Paddling &bull\; Skiing</p>\n<p align="left">Holistic &bull\; Wellness &bull\; Travel</p>\n<p align="left">FREE</p>\n<p align="left">ADMISSION!</p>\n<p align="left">$5\,000</p>\n<p align="left">IN PRIZES!</p>\n<p>In partnership with Healing Springs Journal</p>\n<p>&nbsp\;</p>
LOCATION:Saratoga Springs City Center
UID:e.2254.1180
SEQUENCE:3
DTSTAMP:20260424T085235Z
URL:http://saratogatourism-gzcms.preview.gochambermaster.com/events/details/11-22-2014-11-22-2014-1180
END:VEVENT

END:VCALENDAR
