BEGIN:VCALENDAR
VERSION:2.0
PRODID:-//ChamberMaster//Event Calendar 2.0//EN
METHOD:PUBLISH
X-PUBLISHED-TTL:P3D
REFRESH-INTERVAL:P3D
CALSCALE:GREGORIAN
BEGIN:VEVENT
DTSTART:20141119T000000Z
DTEND:20141119T030000Z
X-MICROSOFT-CDO-ALLDAYEVENT:FALSE
SUMMARY:- 11/18/2014
DESCRIPTION:Adirondack Flames HockeyStoredTech will give away an iPad mini during the game. 25 Silver Tuesdays – First 1\,000 fans receive a Gift Certificate to 25 Silver Boutique. Applebee’s on Quaker Road holding specials prior to puck drop.
X-ALT-DESC;FMTTYPE=text/html:<p>Adirondack Flames Hockey</p><p><span style="font-family: Arial\, Helvetica\, sans-serif\; font-size: 16px\; line-height: normal\; background-color: rgb(255\, 213\, 81)\;">StoredTech will give away an iPad mini during the game. 25 Silver Tuesdays – First 1\,000 fans receive a Gift Certificate to 25 Silver Boutique. Applebee’s on Quaker Road holding specials prior to puck drop.</span><br><br></p>
LOCATION:Glens Falls Civic Center
UID:e.2254.2122
SEQUENCE:3
DTSTAMP:20260424T085135Z
URL:http://saratogatourism-gzcms.preview.gochambermaster.com/events/details/11-18-2014-11-18-2014-2122
END:VEVENT

END:VCALENDAR
