BEGIN:VCALENDAR
VERSION:2.0
PRODID:-//ChamberMaster//Event Calendar 2.0//EN
METHOD:PUBLISH
X-PUBLISHED-TTL:P3D
REFRESH-INTERVAL:P3D
CALSCALE:GREGORIAN
BEGIN:VEVENT
DTSTART:20141009T193000Z
DTEND:20141009T220000Z
X-MICROSOFT-CDO-ALLDAYEVENT:FALSE
SUMMARY:- 10/09/2014
DESCRIPTION:"The Cinema of Ousmane Sembene and its Legacy" Dr. Aboubakar Sanogo\, associate professor of film studies\, Carleton University will examine the political and aesthetic project of the man known as the “father of African cinema.” It will also look at the lingering significance of his work in contemporary film practice.   5:30 p.m.-Davis Auditorium For more information call 518-580-5057
X-ALT-DESC;FMTTYPE=text/html:<p>"The Cinema of Ousmane Sembene and its Legacy" </p><p><span style="font-size: 12pt\; font-family: Times New Roman\,serif\;"></span>Dr. Aboubakar Sanogo\, associate professor of film studies\, Carleton University will examine the political and aesthetic project of the man known as the “father of African cinema.” It will also look at the lingering significance of his work in contemporary film practice.&nbsp\; </p><p>&nbsp\;<p><span>5:30 p.m.-Davis Auditorium</span></p> <span style="font-size: 12pt\; font-family: Times New Roman\,serif\;">For more information call 518-580-5057</span></p><br>
LOCATION:Davis Auditorium\, Skidmore College
UID:e.2254.2030
SEQUENCE:3
DTSTAMP:20260424T103232Z
URL:http://saratogatourism-gzcms.preview.gochambermaster.com/events/details/10-09-2014-10-09-2014-2030
END:VEVENT

END:VCALENDAR
