BEGIN:VCALENDAR
VERSION:2.0
PRODID:-//ChamberMaster//Event Calendar 2.0//EN
METHOD:PUBLISH
X-PUBLISHED-TTL:P3D
REFRESH-INTERVAL:P3D
CALSCALE:GREGORIAN
BEGIN:VEVENT
DTSTART:20141001T213000Z
DTEND:20141001T230000Z
X-MICROSOFT-CDO-ALLDAYEVENT:FALSE
SUMMARY:- 10/01/2014
DESCRIPTION:"Rule of Law in the Middle East: The Ottoman Antecedent"Greenberg Middle East Scholar-in-Residence Lecture: "Rule of Law in the Middle East: The Ottoman Antecedent\," by Avi Rubin of Ben-Gurion University in Israel. 7:30 p.m.-Davis Auditorium For more information call 518-580-5597
X-ALT-DESC;FMTTYPE=text/html:<p>"Rule of Law in the Middle East: The Ottoman Antecedent"</p><p><span>Greenberg Middle East Scholar-in-Residence Lecture: "Rule of Law in the Middle East: The Ottoman Antecedent\," by Avi Rubin of </span><span style="font-family: Times\,serif\;">Ben-Gurion University in Israel.</span></p> <p><span style="font-family: Times\,serif\;">7:30 p.m.-Davis Auditorium</span></p> <span style="font-size: 12pt\; font-family: Times\,serif\;">For more information call 518-580-5597</span>
LOCATION:Davis Auditorium\, Skidmore College
UID:e.2254.2022
SEQUENCE:3
DTSTAMP:20260424T102534Z
URL:http://saratogatourism-gzcms.preview.gochambermaster.com/events/details/10-01-2014-10-01-2014-2022
END:VEVENT

END:VCALENDAR
